BEGIN:VCALENDAR
VERSION:2.0
PRODID:-//Employment Skills Center - ECPv6.15.17.1//NONSGML v1.0//EN
CALSCALE:GREGORIAN
METHOD:PUBLISH
X-WR-CALNAME:Employment Skills Center
X-ORIGINAL-URL:https://employmentskillscenter.org
X-WR-CALDESC:Events for Employment Skills Center
REFRESH-INTERVAL;VALUE=DURATION:PT1H
X-Robots-Tag:noindex
X-PUBLISHED-TTL:PT1H
BEGIN:VTIMEZONE
TZID:UTC
BEGIN:STANDARD
TZOFFSETFROM:+0000
TZOFFSETTO:+0000
TZNAME:UTC
DTSTART:20240101T000000
END:STANDARD
END:VTIMEZONE
BEGIN:VEVENT
DTSTART;TZID=UTC:20251008T120000
DTEND;TZID=UTC:20251008T133000
DTSTAMP:20260422T131225
CREATED:20260128T203028Z
LAST-MODIFIED:20260128T203028Z
UID:493-1759924800-1759930200@employmentskillscenter.org
SUMMARY:Lunch & Learn Workshop: Study Skills and Test-taking Strategies for Adult Students
DESCRIPTION:Join us on Wednesday\, October 8\, from 12:00-1:30 pm for a free Lunch & Learn workshop. In this workshop you will learn about effective study skills and test-taking strategies for adult students. \nRegistration deadline is October 6th. \nTo register\, call 717-243-6040 or email Beth at bhinton@employmentskillscenter.org.
URL:https://employmentskillscenter.org/event/lunch-learn-workshop-study-skills-and-test-taking-strategies-for-adult-students/
LOCATION:Employment Skills Center\, 29 South Hanover Street\, Carlisle\, PA\, 17013
CATEGORIES:Classes
ATTACH;FMTTYPE=image/jpeg:https://employmentskillscenter.org/wp-content/uploads/2026/01/nguyen-dang-hoang-nhu-qDgTQOYk6B8-unsplash-scaled.jpg
END:VEVENT
END:VCALENDAR